{
 "version": 1.0,
 "tileBundlesPath": "./tile",
 "storageInfo": {
  "packetSize": 128,
  "storageFormat": "esriMapCacheStorageModeCompactV2"
 },
 "tileImageInfo": {
  "format": "PNG",
  "compressionQuality": 0,
  "bandCount": 1,
  "lercError": 0
 },
 "tileInfo": {
  "spatialReference": {
   "wkid": 102100,
   "latestWkid": 3857
  },
  "origin": {
   "x": -2.0037508342787E7,
   "y": 2.0037508342787E7
  },
  "rows": 256,
  "cols": 256,
  "dpi": 96,
  "lods": [
   {
    "level": 0,
    "resolution": 156543.033928,
    "scale": 5.91657527591555E8
   },
   {
    "level": 1,
    "resolution": 78271.5169639999,
    "scale": 2.95828763795777E8
   },
   {
    "level": 2,
    "resolution": 39135.7584820001,
    "scale": 1.47914381897889E8
   },
   {
    "level": 3,
    "resolution": 19567.8792409999,
    "scale": 7.3957190948944E7
   },
   {
    "level": 4,
    "resolution": 9783.93962049996,
    "scale": 3.6978595474472E7
   },
   {
    "level": 5,
    "resolution": 4891.96981024998,
    "scale": 1.8489297737236E7
   },
   {
    "level": 6,
    "resolution": 2445.98490512499,
    "scale": 9244648.868618
   },
   {
    "level": 7,
    "resolution": 1222.99245256249,
    "scale": 4622324.434309
   },
   {
    "level": 8,
    "resolution": 611.49622628138,
    "scale": 2311162.217155
   },
   {
    "level": 9,
    "resolution": 305.748113140558,
    "scale": 1155581.108577
   },
   {
    "level": 10,
    "resolution": 152.874056570411,
    "scale": 577790.554289
   },
   {
    "level": 11,
    "resolution": 76.4370282850732,
    "scale": 288895.277144
   },
   {
    "level": 12,
    "resolution": 38.2185141425366,
    "scale": 144447.638572
   },
   {
    "level": 13,
    "resolution": 19.1092570712683,
    "scale": 72223.819286
   },
   {
    "level": 14,
    "resolution": 9.55462853563415,
    "scale": 36111.909643
   },
   {
    "level": 15,
    "resolution": 4.77731426794937,
    "scale": 18055.954822
   },
   {
    "level": 16,
    "resolution": 2.38865713397468,
    "scale": 9027.977411
   },
   {
    "level": 17,
    "resolution": 1.19432856685505,
    "scale": 4513.988705
   },
   {
    "level": 18,
    "resolution": 0.597164283559817,
    "scale": 2256.994353
   },
   {
    "level": 19,
    "resolution": 0.298582141647617,
    "scale": 1128.497176
   },
   {
    "level": 20,
    "resolution": 0.14929107082380833,
    "scale": 564.248588
   },
   {
    "level": 21,
    "resolution": 0.07464553541190416,
    "scale": 282.124294
   },
   {
    "level": 22,
    "resolution": 0.03732276770595208,
    "scale": 141.062147
   },
   {
    "level": 23,
    "resolution": 0.01866138385297604,
    "scale": 70.5310735
   }
  ],
  "format": "PNG",
  "compressionQuality": 0,
  "bandCount": 1,
  "lercError": 0,
  "storageFormat": "esriMapCacheStorageModeCompactV2",
  "packetSize": 128
 },
 "name": "VEGETACION_TAC25K",
 "serviceDescription": "",
 "spatialReference": {
  "wkid": 102100,
  "latestWkid": 3857,
  "xyTolerance": 0.001,
  "zTolerance": 0.001,
  "mTolerance": 0.001,
  "falseX": -20037700,
  "falseY": -30241100,
  "xyUnits": 1.4892314192838538E8,
  "falseZ": -100000,
  "zUnits": 10000,
  "falseM": -100000,
  "mUnits": 10000
 },
 "units": "esriMeters",
 "minLOD": 5,
 "maxLOD": 19,
 "resampling": true,
 "layers": [
  {
   "id": 0,
   "name": "VEGETACION",
   "parentLayerId": -1,
   "defaultVisibility": true,
   "subLayerIds": [
    1,
    2,
    3
   ],
   "minScale": 0,
   "maxScale": 0,
   "type": "Group Layer",
   "supportsDynamicLegends": false,
   "layerId": 0,
   "layerName": "VEGETACION",
   "serviceItemId": "1bf3e73fbc3e49e1b82187546f7d79d7"
  },
  {
   "id": 1,
   "name": "Terreno Cultivo",
   "parentLayerId": 0,
   "defaultVisibility": true,
   "subLayerIds": null,
   "minScale": 0,
   "maxScale": 0,
   "type": "Feature Layer",
   "geometryType": "esriGeometryPolygon",
   "supportsDynamicLegends": false,
   "legend": [
    {
     "label": "Terreno de Cultivo",
     "imageData": "iVBORw0KGgoAAAANSUhEUgAAABQAAAAUCAYAAACNiR0NAAAACXBIWXMAAA7EAAAOxAGVKw4bAAAAhUlEQVQ4jdWUUQ7AIAhDS+L9dlZP6L5InFoQxz7Gn3laS0Mo6OpqaABQBYKhLKa8CqSs4Jt6CLLfPdbzfIfa+wg0M+aOZZrvkGWzm9kk2B9Y+7t8ErQeaWYWP5rDkMOUObRy8djqI9qylxkrKlgFEhUDjDlU0Sib5pBd/mx9eTH8YH1lC95BI0zOL/YwVwAAAABJRU5ErkJggg==",
     "contentType": "image/png",
     "height": 20,
     "width": 20,
     "values": [
      2
     ],
     "layerId": 1,
     "layerName": "Terreno Cultivo"
    },
    {
     "label": "Plantación",
     "imageData": "iVBORw0KGgoAAAANSUhEUgAAABQAAAAUCAYAAACNiR0NAAAACXBIWXMAAA7EAAAOxAGVKw4bAAAAb0lEQVQ4je2RQQ7AIAgEl4T/+VZfiCcSo4tSm6YXOZlZheAouioG83MVCMt2XPuwCqQYbHwUDWFcV+EJnxq+re8bRn+Y5TqG7FLEWdOU5Sf2r+WfLTNOV85adh6uHJlcZdfybJkJOLbskNlk6zHeAAEDcBvKQ2KFAAAAAElFTkSuQmCC",
     "contentType": "image/png",
     "height": 20,
     "width": 20,
     "values": [
      3
     ],
     "layerId": 1,
     "layerName": "Terreno Cultivo"
    },
    {
     "label": "Huerto",
     "imageData": "iVBORw0KGgoAAAANSUhEUgAAABQAAAAUCAYAAACNiR0NAAAACXBIWXMAAA7EAAAOxAGVKw4bAAAAb0lEQVQ4je2RQQ7AIAgEl4T/+VZfiCcSo4tSm6YXOZlZheAouioG83MVCMt2XPuwCqQYbHwUDWFcV+EJnxq+re8bRn+Y5TqG7FLEWdOU5Sf2r+WfLTNOV85adh6uHJlcZdfybJkJOLbskNlk6zHeAAEDcBvKQ2KFAAAAAElFTkSuQmCC",
     "contentType": "image/png",
     "height": 20,
     "width": 20,
     "values": [
      4
     ],
     "layerId": 1,
     "layerName": "Terreno Cultivo"
    },
    {
     "label": "Viñedo",
     "imageData": "iVBORw0KGgoAAAANSUhEUgAAABQAAAAUCAYAAACNiR0NAAAACXBIWXMAAA7EAAAOxAGVKw4bAAAAhUlEQVQ4jdWUUQ7AIAhDS+L9dlZP6L5InFoQxz7Gn3laS0Mo6OpqaABQBYKhLKa8CqSs4Jt6CLLfPdbzfIfa+wg0M+aOZZrvkGWzm9kk2B9Y+7t8ErQeaWYWP5rDkMOUObRy8djqI9qylxkrKlgFEhUDjDlU0Sib5pBd/mx9eTH8YH1lC95BI0zOL/YwVwAAAABJRU5ErkJggg==",
     "contentType": "image/png",
     "height": 20,
     "width": 20,
     "values": [
      5
     ],
     "layerId": 1,
     "layerName": "Terreno Cultivo"
    },
    {
     "label": "Vivero",
     "imageData": "iVBORw0KGgoAAAANSUhEUgAAABQAAAAUCAYAAACNiR0NAAAACXBIWXMAAA7EAAAOxAGVKw4bAAAAb0lEQVQ4je2RQQ7AIAgEl4T/+VZfiCcSo4tSm6YXOZlZheAouioG83MVCMt2XPuwCqQYbHwUDWFcV+EJnxq+re8bRn+Y5TqG7FLEWdOU5Sf2r+WfLTNOV85adh6uHJlcZdfybJkJOLbskNlk6zHeAAEDcBvKQ2KFAAAAAElFTkSuQmCC",
     "contentType": "image/png",
     "height": 20,
     "width": 20,
     "values": [
      6
     ],
     "layerId": 1,
     "layerName": "Terreno Cultivo"
    }
   ],
   "layerId": 1,
   "layerName": "Terreno Cultivo",
   "serviceItemId": "1bf3e73fbc3e49e1b82187546f7d79d7"
  },
  {
   "id": 2,
   "name": "Matorral",
   "parentLayerId": 0,
   "defaultVisibility": true,
   "subLayerIds": null,
   "minScale": 0,
   "maxScale": 0,
   "type": "Feature Layer",
   "geometryType": "esriGeometryPolygon",
   "supportsDynamicLegends": false,
   "legend": [
    {
     "label": "Matorral",
     "imageData": "iVBORw0KGgoAAAANSUhEUgAAABQAAAAUCAYAAACNiR0NAAAACXBIWXMAAA7EAAAOxAGVKw4bAAAApklEQVQ4jZ1UQQ7AIAirCf/zrb7QnTDEUal6U1ltoZ0BQJ+YADAaGsTVJ2ZWb+ziFdRemTAStl/s8iv2e33KUGmBMy8lj4amDIlKznoU9+rQvK4cyg7O2K0eusSsyM9jvxyUsTdHP0m/8emSrH4U69KkVABRdgSi0VMZqQoW4G2mSx8y70WrKI/+snxioig4ZlmJoPRzYIyYV6MDyimfHsjOrwCV9QFKGHDl9ltxYgAAAABJRU5ErkJggg==",
     "contentType": "image/png",
     "height": 20,
     "width": 20,
     "values": [
      2
     ],
     "layerId": 2,
     "layerName": "Matorral"
    }
   ],
   "layerId": 2,
   "layerName": "Matorral",
   "serviceItemId": "1bf3e73fbc3e49e1b82187546f7d79d7"
  },
  {
   "id": 3,
   "name": "Bosque",
   "parentLayerId": 0,
   "defaultVisibility": true,
   "subLayerIds": null,
   "minScale": 0,
   "maxScale": 0,
   "type": "Feature Layer",
   "geometryType": "esriGeometryPolygon",
   "supportsDynamicLegends": false,
   "legend": [
    {
     "label": "Bosque",
     "imageData": "iVBORw0KGgoAAAANSUhEUgAAABQAAAAUCAYAAACNiR0NAAAACXBIWXMAAA7EAAAOxAGVKw4bAAAALklEQVQ4jWN59v/MfwYqASlGE0YWahkGA6MGjho4auCogaMG0spAKUYTRmoaCABYdgShZVVVDwAAAABJRU5ErkJggg==",
     "contentType": "image/png",
     "height": 20,
     "width": 20,
     "values": [
      2
     ],
     "layerId": 3,
     "layerName": "Bosque"
    }
   ],
   "layerId": 3,
   "layerName": "Bosque",
   "serviceItemId": "1bf3e73fbc3e49e1b82187546f7d79d7"
  }
 ],
 "initialExtent": {
  "xmin": -7959333.605247535,
  "ymin": -2075794.9018260196,
  "xmax": -7779057.840087059,
  "ymax": -1810048.0708320285,
  "spatialReference": {
   "wkid": 102100,
   "latestWkid": 3857,
   "xyTolerance": 0.001,
   "zTolerance": 0.001,
   "mTolerance": 0.001,
   "falseX": -20037700,
   "falseY": -30241100,
   "xyUnits": 1.4892314192838538E8,
   "falseZ": -100000,
   "zUnits": 10000,
   "falseM": -100000,
   "mUnits": 10000
  }
 },
 "fullExtent": {
  "xmin": -7959333.605247535,
  "ymin": -2075794.9018260196,
  "xmax": -7779057.840087059,
  "ymax": -1810048.0708320285,
  "spatialReference": {
   "wkid": 102100,
   "latestWkid": 3857,
   "xyTolerance": 0.001,
   "zTolerance": 0.001,
   "mTolerance": 0.001,
   "falseX": -20037700,
   "falseY": -30241100,
   "xyUnits": 1.4892314192838538E8,
   "falseZ": -100000,
   "zUnits": 10000,
   "falseM": -100000,
   "mUnits": 10000
  }
 },
 "minScale": 0,
 "maxScale": 0,
 "exportTilesAllowed": false,
 "maxExportTilesCount": 0,
 "currentVersion": 11.2,
 "mapName": "VEGETACION_TAC25K",
 "singleFusedMapCache": true,
 "type": "MapServer",
 "supportedExtensions": "",
 "capabilities": "TilesOnly,Tilemap",
 "serviceItemId": "1bf3e73fbc3e49e1b82187546f7d79d7"
}
